BEGIN:VCALENDAR
VERSION:2.0
PRODID:-//AudioTheme 2.3.8
BEGIN:VEVENT
UID:urn:uuid:6d2c6819-411b-4ec4-9039-211301d4a4cd
URL:https://mitchmcvicker.com/concerts/gig-4285/
DTSTART;TZID=GMT:20211128T153000
SUMMARY:Next Chapter Church
LOCATION:Next Chapter Church\, 5300 Taylor Mill Road\, Taylor Mill\, KY
END:VEVENT
END:VCALENDAR
