BEGIN:VCALENDAR
VERSION:2.0
PRODID:-//AudioTheme 2.3.8
BEGIN:VEVENT
UID:urn:uuid:60e57f95-9be6-487f-b219-f43a0b67fe50
URL:https://mitchmcvicker.com/concerts/gig-4284/
DTSTART;TZID=GMT:20210827T000000
SUMMARY:Beautiful Savior Lutheran Church
LOCATION:Beautiful Savior Lutheran Church\, 3924 Home Road\, Powell\, OH\, 43065
END:VEVENT
END:VCALENDAR
