BEGIN:VCALENDAR
VERSION:2.0
PRODID:-//AudioTheme 2.3.8
BEGIN:VEVENT
UID:urn:uuid:b70a6ae2-f033-4682-a362-584e64936180
URL:https://mitchmcvicker.com/concerts/gig-4272/
DTSTART;TZID=GMT:20211017T233000
SUMMARY:Lutheran Church of the Master
LOCATION:Lutheran Church of the Master\, 580 Kuhn Rd.\, Carol Stream\, IL\, USA
END:VEVENT
END:VCALENDAR
