BEGIN:VCALENDAR
VERSION:2.0
PRODID:-//AudioTheme 2.3.8
BEGIN:VEVENT
UID:urn:uuid:c124b6e6-e42a-42e3-84ca-2a1115e82e73
URL:https://mitchmcvicker.com/concerts/gig-4270/
DTSTART;TZID=GMT:20211120T010000
SUMMARY:First Church of the Nazarene
LOCATION:First Church of the Nazarene\, 1105 Edinburgh St.\, Victoria\, TX
END:VEVENT
END:VCALENDAR
