BEGIN:VCALENDAR
VERSION:2.0
PRODID:-//AudioTheme 2.3.8
BEGIN:VEVENT
UID:urn:uuid:bfd8d1a8-de6f-4037-8716-5d6354b519b8
URL:https://mitchmcvicker.com/concerts/gig-4235/
DTSTART;TZID=GMT:20211015T000000
SUMMARY:Hope Grows Neighborhood Center
LOCATION:Hope Grows Neighborhood Center\, 715 N. Adams St.\, Lincoln\, IL
END:VEVENT
END:VCALENDAR
