BEGIN:VCALENDAR
VERSION:2.0
PRODID:-//AudioTheme 2.3.8
BEGIN:VEVENT
UID:urn:uuid:21326d80-24fb-4ac7-a82a-9c8db15e4cdb
URL:https://mitchmcvicker.com/concerts/gig-4230/
DTSTART;TZID=GMT:20211019T000000
SUMMARY:Sanctuary Church
LOCATION:Sanctuary Church\, 912 18th Ave. SW\, Cedar Rapids\, IA
END:VEVENT
END:VCALENDAR
