BEGIN:VCALENDAR
VERSION:2.0
PRODID:-//AudioTheme 2.3.8
BEGIN:VEVENT
UID:urn:uuid:2d293bfa-a1ca-4108-9121-d1f6ab6bc994
URL:https://mitchmcvicker.com/concerts/gig-4228/
DTSTART;TZID=GMT:20211010T000000
SUMMARY:St. John's Lutheran Church
LOCATION:St. John's Lutheran Church\, 22186 State Highway B\, Westboro\, MO
END:VEVENT
END:VCALENDAR
