BEGIN:VCALENDAR
VERSION:2.0
PRODID:-//AudioTheme 2.3.8
BEGIN:VEVENT
UID:urn:uuid:419ffcd4-ac55-4acc-a3b7-824a561e844c
URL:https://mitchmcvicker.com/concerts/gig-4141/
DTSTART;TZID=GMT:20211020T000000
SUMMARY:First Presbyterian Church
LOCATION:First Presbyterian Church\, 981 W. 15th Street\, Wahoo\, NE
END:VEVENT
END:VCALENDAR
