BEGIN:VCALENDAR
VERSION:2.0
PRODID:-//AudioTheme 2.3.8
BEGIN:VEVENT
UID:urn:uuid:7d66399d-59e9-40b3-9206-617cdfe98001
URL:https://mitchmcvicker.com/concerts/gig-4140/
DTSTART;TZID=GMT:20210811T230000
SUMMARY:Emmanuel Christian Church
LOCATION:Emmanuel Christian Church\, 4495 Greenville Sandy Lake Road\, Stoneboro\, PA
END:VEVENT
END:VCALENDAR
