BEGIN:VCALENDAR
VERSION:2.0
PRODID:-//AudioTheme 2.3.8
BEGIN:VEVENT
UID:urn:uuid:5b1e907c-45c0-4b73-ae64-1b2e55d7eb1e
URL:https://mitchmcvicker.com/concerts/gig-4138/
DTSTART;TZID=GMT:20211007T233000
SUMMARY:Cornerstone Community Church
LOCATION:Cornerstone Community Church\, 260 E Galer Ave\, Nowata\, OK\, 74048
END:VEVENT
END:VCALENDAR
