BEGIN:VCALENDAR
VERSION:2.0
PRODID:-//AudioTheme 2.3.8
BEGIN:VEVENT
UID:urn:uuid:32912b2c-ca46-4eaf-ae81-b8c62a30a0f0
URL:https://mitchmcvicker.com/concerts/gig-4131/
DTSTART;TZID=GMT:20210813T230000
SUMMARY:First Presbyterian Church
LOCATION:First Presbyterian Church\, 200 N Lisbon St\, Carrollton\, OH
END:VEVENT
END:VCALENDAR
