BEGIN:VCALENDAR
VERSION:2.0
PRODID:-//AudioTheme 2.3.8
BEGIN:VEVENT
UID:urn:uuid:c26a4523-2fb5-4e99-9c3e-804725606a93
URL:https://mitchmcvicker.com/concerts/gig-4128/
DTSTART;TZID=GMT:20210825T230000
SUMMARY:Kenbrook Bible Camp
LOCATION:Kenbrook Bible Camp\, 190 Pine Meadow Road\, Lebanon\, PA
END:VEVENT
END:VCALENDAR
