BEGIN:VCALENDAR
VERSION:2.0
PRODID:-//AudioTheme 2.3.8
BEGIN:VEVENT
UID:urn:uuid:7915deaf-bfdd-4ecb-97c5-abea72496f3d
URL:https://mitchmcvicker.com/concerts/gig-4126/
DTSTART;TZID=GMT:20210913T230000
SUMMARY:Benefit for Street Church Ministries
LOCATION:Benefit for Street Church Ministries\, Outreach Center 127 Perry Street\, Trenton\, NJ\, USA
END:VEVENT
END:VCALENDAR
