BEGIN:VCALENDAR
VERSION:2.0
PRODID:-//AudioTheme 2.3.8
BEGIN:VEVENT
UID:urn:uuid:a07fc1af-80ef-4263-80f6-3ed57d15857b
URL:https://mitchmcvicker.com/concerts/gig-4124/
DTSTART;TZID=GMT:20210912T223000
SUMMARY:River of Life Church
LOCATION:River of Life Church\, 3434 Durham Road\, Doylestown\, PA\, USA\, 18902
END:VEVENT
END:VCALENDAR
