BEGIN:VCALENDAR
VERSION:2.0
PRODID:-//AudioTheme 2.3.8
BEGIN:VEVENT
UID:urn:uuid:143356c5-1e93-44f8-9686-461c5bc40450
URL:https://mitchmcvicker.com/concerts/gig-4121/
DTSTART;TZID=GMT:20211115T003000
SUMMARY:Federated Church
LOCATION:Federated Church\, 400 W. Faye Ave.\, Kingfisher\, OK\, USA\, 73750
END:VEVENT
END:VCALENDAR
