BEGIN:VCALENDAR
VERSION:2.0
PRODID:-//AudioTheme 2.3.8
BEGIN:VEVENT
UID:urn:uuid:542c21a1-2d37-4f5f-8996-6cccbdabf452
URL:https://mitchmcvicker.com/concerts/gig-4117/
DTSTART;TZID=GMT:20210909T230000
SUMMARY:The Trinity Church of Middleburg Heights
LOCATION:The Trinity Church of Middleburg Heights\, 14040 Bagley Rd\, Middleburg Heights\, OH\, USA\, 44130
END:VEVENT
END:VCALENDAR
