BEGIN:VCALENDAR
VERSION:2.0
PRODID:-//AudioTheme 2.3.8
BEGIN:VEVENT
UID:urn:uuid:ef30a5f1-1add-4f46-ade1-dff4418febbf
URL:https://mitchmcvicker.com/concerts/gig-4116/
DTSTART;TZID=GMT:20210613T230000
SUMMARY:Radiant Fellowship
LOCATION:Radiant Fellowship\, 420 N. Harrison\, Waupaca\, WI
END:VEVENT
END:VCALENDAR
