BEGIN:VCALENDAR
VERSION:2.0
PRODID:-//AudioTheme 2.3.8
BEGIN:VEVENT
UID:urn:uuid:cd5a53de-ca11-46c3-bb5b-607e2b15ef6f
URL:https://mitchmcvicker.com/concerts/gig-4110/
DTSTART;TZID=GMT:20210924T010000
SUMMARY:Following His Muse Small Group
LOCATION:Following His Muse Small Group\, 11214 Longview Blvd.\, Longmont\, CO\, USA\, 80504
END:VEVENT
END:VCALENDAR
