BEGIN:VCALENDAR
VERSION:2.0
PRODID:-//AudioTheme 2.3.8
BEGIN:VEVENT
UID:urn:uuid:218c55eb-b305-432f-977b-713b4ee5156e
URL:https://mitchmcvicker.com/concerts/gig-4107/
DTSTART;TZID=GMT:20210612T150000
SUMMARY:Downtown Art Festival - Field of Honor Memorial Park
LOCATION:Downtown Art Festival - Field of Honor Memorial Park\, 120 N. Water St.\, Black River Falls\, WI\, 54615
END:VEVENT
END:VCALENDAR
