BEGIN:VCALENDAR
VERSION:2.0
PRODID:-//AudioTheme 2.3.8
BEGIN:VEVENT
UID:urn:uuid:c00d70a5-4551-451c-a435-f560e1452315
URL:https://mitchmcvicker.com/concerts/gig-4106/
DTSTART;TZID=GMT:20211114T010000
SUMMARY:First United Methodist Church
LOCATION:First United Methodist Church\, 330 N. Broadway\, Wichita\, KS
END:VEVENT
END:VCALENDAR
