BEGIN:VCALENDAR
VERSION:2.0
PRODID:-//AudioTheme 2.3.8
BEGIN:VEVENT
UID:urn:uuid:7fd41423-9dde-441e-822b-bb004996b598
URL:https://mitchmcvicker.com/concerts/gig-4105/
DTSTART;TZID=GMT:20211111T010000
SUMMARY:Faith United Methodist Church
LOCATION:Faith United Methodist Church\, 6060 Teasley Lane\, Denton\, TX
END:VEVENT
END:VCALENDAR
