BEGIN:VCALENDAR
VERSION:2.0
PRODID:-//AudioTheme 2.3.8
BEGIN:VEVENT
UID:urn:uuid:837603f1-2d83-4bd9-be6d-a1cbaeccfa79
URL:https://mitchmcvicker.com/concerts/gig-4104/
DTSTART;TZID=GMT:20211016T110000
SUMMARY:Liberty Bible Church
LOCATION:Liberty Bible Church\, 1155 S. Sturdy Rd.\, Valparaiso\, IN\, United States\, 45840
END:VEVENT
END:VCALENDAR
