BEGIN:VCALENDAR
VERSION:2.0
PRODID:-//AudioTheme 2.3.8
BEGIN:VEVENT
UID:urn:uuid:f1e59e5f-7e4f-4416-bbae-09cd3801c3fc
URL:https://mitchmcvicker.com/concerts/gig-4102/
DTSTART;TZID=GMT:20210925T003000
SUMMARY:Muse Barn Concert Series
LOCATION:Muse Barn Concert Series\, 14491 County Road 3\, Longmont\, CO
END:VEVENT
END:VCALENDAR
