BEGIN:VCALENDAR
VERSION:2.0
PRODID:-//AudioTheme 2.3.8
BEGIN:VEVENT
UID:urn:uuid:616bdee9-5af8-4037-b865-cbefd22626be
URL:https://mitchmcvicker.com/concerts/gig-4087/
DTSTART;TZID=GMT:20210927T010000
SUMMARY:Connection Church
LOCATION:Connection Church\, 2938 North Ave.\, Grand Junction\, CO\, USA
END:VEVENT
END:VCALENDAR
