BEGIN:VCALENDAR
VERSION:2.0
PRODID:-//AudioTheme 2.3.8
BEGIN:VEVENT
UID:urn:uuid:b2f84617-ffe1-4abb-b981-68c165004243
URL:https://mitchmcvicker.com/concerts/gig-4084/
DTSTART;TZID=GMT:20210812T230000
SUMMARY:Linesville Presbyterian Church
LOCATION:Linesville Presbyterian Church\, 202 W. Erie St.\, Linesville\, PA
END:VEVENT
END:VCALENDAR
