BEGIN:VCALENDAR
VERSION:2.0
PRODID:-//AudioTheme 2.3.8
BEGIN:VEVENT
UID:urn:uuid:72b54618-8d8d-47c3-b84e-c40be18e9619
URL:https://mitchmcvicker.com/concerts/gig-4082/
DTSTART;TZID=GMT:20211118T011500
SUMMARY:Immanuel Lutheran Church - Belton Campus
LOCATION:Immanuel Lutheran Church - Belton Campus\, 1215 S. Wall Street\, Belton\, TX\, United States
END:VEVENT
END:VCALENDAR
