BEGIN:VCALENDAR
VERSION:2.0
PRODID:-//AudioTheme 2.3.8
BEGIN:VEVENT
UID:urn:uuid:692ba5df-cbc4-4dec-9e53-6e257ee0576f
URL:https://mitchmcvicker.com/concerts/gig-4080/
DTSTART;TZID=GMT:20211112T003000
SUMMARY:Caprock Springs Fellowship
LOCATION:Caprock Springs Fellowship\, 315 N. Ave H\, Post\, TX\, United States\, 79356
END:VEVENT
END:VCALENDAR
