BEGIN:VCALENDAR
VERSION:2.0
PRODID:-//AudioTheme 2.3.8
BEGIN:VEVENT
UID:urn:uuid:e592ed83-158e-4a86-8038-847bb27fbe52
URL:https://mitchmcvicker.com/concerts/gig-4078/
DTSTART;TZID=GMT:20211015T230000
SUMMARY:His Church Anglican
LOCATION:His Church Anglican\, 34500 Six Mile Road\, Livonia\, MI\, United States\, 48152
END:VEVENT
END:VCALENDAR
