BEGIN:VCALENDAR
VERSION:2.0
PRODID:-//AudioTheme 2.3.8
BEGIN:VEVENT
UID:urn:uuid:1320f922-5628-4185-8a06-e6c00b81fd0a
URL:https://mitchmcvicker.com/concerts/gig-4076/
DTSTART;TZID=GMT:20211007T000000
SUMMARY:Lifespring Community Church
LOCATION:Lifespring Community Church\, 1615 Theole Road\, St. Peters\, MO\, United States\, 63376
END:VEVENT
END:VCALENDAR
