BEGIN:VCALENDAR
VERSION:2.0
PRODID:-//AudioTheme 2.3.8
BEGIN:VEVENT
UID:urn:uuid:0ebb07c9-3b68-45a9-826d-9ac8fc8db666
URL:https://mitchmcvicker.com/concerts/gig-4074/
DTSTART;TZID=GMT:20210922T000000
SUMMARY:Mulvane Christian Church
LOCATION:Mulvane Christian Church\, 502 Highland Park Dr.\, Mulvane\, KS\, United States\, 67110
END:VEVENT
END:VCALENDAR
