BEGIN:VCALENDAR
VERSION:2.0
PRODID:-//AudioTheme 2.3.8
BEGIN:VEVENT
UID:urn:uuid:d52d9b73-58ee-4565-a5f3-f42efc46ec39
URL:https://mitchmcvicker.com/concerts/gig-4068/
DTSTART;TZID=GMT:20210815T220000
SUMMARY:Northside Baptist Church
LOCATION:Northside Baptist Church\, 1800 Pear Orchard Road\, Elizabethtown\, KY\, United States\, 47201
END:VEVENT
END:VCALENDAR
