BEGIN:VCALENDAR
VERSION:2.0
PRODID:-//AudioTheme 2.3.8
BEGIN:VEVENT
UID:urn:uuid:ec03e4fd-a79f-4ed9-bf32-d531b2764170
URL:https://mitchmcvicker.com/concerts/gig-4061/
DTSTART;TZID=GMT:20211113T013000
SUMMARY:Horning House - Open to Everyone
LOCATION:Horning House - Open to Everyone\, 1616 E. Texas Street\, Denison\, TX
END:VEVENT
END:VCALENDAR
