BEGIN:VCALENDAR
VERSION:2.0
PRODID:-//AudioTheme 2.3.8
BEGIN:VEVENT
UID:urn:uuid:3cca0bcb-5d23-44cc-87e8-167812e65058
URL:https://mitchmcvicker.com/concerts/gig-4060/
DTSTART;TZID=GMT:20211013T233000
SUMMARY:Trinity Lutheran Church
LOCATION:Trinity Lutheran Church\, 1410 Rogers St\, Stevens Point\, WI\, USA\, 54481
END:VEVENT
END:VCALENDAR
