BEGIN:VCALENDAR
VERSION:2.0
PRODID:-//AudioTheme 2.3.8
BEGIN:VEVENT
UID:urn:uuid:1b687dd7-d64e-4c02-b392-8aabc4bd615b
URL:https://mitchmcvicker.com/concerts/gig-4058/
DTSTART;TZID=GMT:20211011T000000
SUMMARY:Fellowship of Faith
LOCATION:Fellowship of Faith\, 6120 Mason Hill Road\, McHenry\, IL\, United States\, 60050
END:VEVENT
END:VCALENDAR
