BEGIN:VCALENDAR
VERSION:2.0
PRODID:-//AudioTheme 2.3.8
BEGIN:VEVENT
UID:urn:uuid:fb75ecc2-e157-4a12-9b77-62bec4887e29
URL:https://mitchmcvicker.com/concerts/gig-4053/
DTSTART;TZID=GMT:20210923T010000
SUMMARY:First Presbyterian Church
LOCATION:First Presbyterian Church\, 220 W. 10th St.\, Pueblo\, CO\, United States\, 81003
END:VEVENT
END:VCALENDAR
