BEGIN:VCALENDAR
VERSION:2.0
PRODID:-//AudioTheme 2.3.8
BEGIN:VEVENT
UID:urn:uuid:de89f543-d5a2-4e9c-808b-b9b9e3044365
URL:https://mitchmcvicker.com/concerts/gig-4052/
DTSTART;TZID=GMT:20210829T140000
SUMMARY:West Ridge Community Church
LOCATION:West Ridge Community Church\, 3300 Encounter Lane\, Elgin\, IL\, 60124
END:VEVENT
END:VCALENDAR
