BEGIN:VCALENDAR
VERSION:2.0
PRODID:-//AudioTheme 2.3.8
BEGIN:VEVENT
UID:urn:uuid:7c479f64-5dda-4677-8f22-7acba510284a
URL:https://mitchmcvicker.com/concerts/gig-4050/
DTSTART;TZID=GMT:20210814T230000
SUMMARY:New Life Community Church
LOCATION:New Life Community Church\, 1450 N. State Road 135\, Nashville\, IN\, United States\, 47448
END:VEVENT
END:VCALENDAR
