BEGIN:VCALENDAR
VERSION:2.0
PRODID:-//AudioTheme 2.3.8
BEGIN:VEVENT
UID:urn:uuid:4e0c4354-a825-4995-84eb-29786286cc9e
URL:https://mitchmcvicker.com/concerts/gig-4048/
DTSTART;TZID=GMT:20210718T230000
SUMMARY:Lutz Community Church
LOCATION:Lutz Community Church\, 601 Sunset Lane\, Lutz\, FL\, United States\, 33548
END:VEVENT
END:VCALENDAR
