BEGIN:VCALENDAR
VERSION:2.0
PRODID:-//AudioTheme 2.3.8
BEGIN:VEVENT
UID:urn:uuid:5647a762-8b86-4c44-a53f-3d650b8d7dcf
URL:https://mitchmcvicker.com/concerts/gig-4045/
DTSTART;TZID=GMT:20210716T230000
SUMMARY:Central Baptist Church
LOCATION:Central Baptist Church\, 201 US Highway 70 SWE\, Hildebran\, NC\, United States\, 28637
END:VEVENT
END:VCALENDAR
