BEGIN:VCALENDAR
VERSION:2.0
PRODID:-//AudioTheme 2.3.8
BEGIN:VEVENT
UID:urn:uuid:43e5850b-aff8-4e92-8e1a-daaad41c2f36
URL:https://mitchmcvicker.com/concerts/gig-4041/
DTSTART;TZID=GMT:20210627T220000
SUMMARY:First United Methodist Church
LOCATION:First United Methodist Church\, 212 E. Wabash Ave.\, Crawfordsville\, IN\, United States\, 47933
END:VEVENT
END:VCALENDAR
