BEGIN:VCALENDAR
VERSION:2.0
PRODID:-//AudioTheme 2.3.8
BEGIN:VEVENT
UID:urn:uuid:9ea59241-28fe-4397-a4b2-f8ac9cd95d36
URL:https://mitchmcvicker.com/concerts/gig-4039/
DTSTART;TZID=GMT:20210626T230000
SUMMARY:Blue Jeans Center
LOCATION:Blue Jeans Center\, 1242 Main St.\, Monroe City\, IN\, United States\, 47557
END:VEVENT
END:VCALENDAR
