BEGIN:VCALENDAR
VERSION:2.0
PRODID:-//AudioTheme 2.3.8
BEGIN:VEVENT
UID:urn:uuid:b87a9f60-82ae-4163-a296-b28520168e7e
URL:https://mitchmcvicker.com/concerts/gig-4037/
DTSTART;TZID=GMT:20210625T230000
SUMMARY:Kewanna Church of Christ
LOCATION:Kewanna Church of Christ\, 116 S. Logan St.\, Kewanna\, IN\, United States\, 46939
END:VEVENT
END:VCALENDAR
