BEGIN:VCALENDAR
VERSION:2.0
PRODID:-//AudioTheme 2.3.8
BEGIN:VEVENT
UID:urn:uuid:723c4a8d-c39d-4afe-a400-ce7eb6b0d208
URL:https://mitchmcvicker.com/concerts/gig-4035/
DTSTART;TZID=GMT:20210606T150000
SUMMARY:Lifebrook Church
LOCATION:Lifebrook Church\, 400 N. Beau Chateaux\, Bethalto\, IL\, United States\, 62010
END:VEVENT
END:VCALENDAR
