BEGIN:VCALENDAR
VERSION:2.0
PRODID:-//AudioTheme 2.3.8
BEGIN:VEVENT
UID:urn:uuid:42e865c4-e811-4a8c-9e8a-c0bca36ac187
URL:https://mitchmcvicker.com/concerts/gig-4012/
DTSTART;TZID=GMT:20210418T140000
SUMMARY:Faith In Christ Church
LOCATION:Faith In Christ Church\, 100 Municipal Bldg Rd\, Duncannon\, PA\, 17020
END:VEVENT
END:VCALENDAR
