BEGIN:VCALENDAR
VERSION:2.0
PRODID:-//AudioTheme 2.3.8
BEGIN:VEVENT
UID:urn:uuid:747edf15-adaa-4b77-a9ae-220065d77026
URL:https://mitchmcvicker.com/concerts/gig-4009/
DTSTART;TZID=GMT:20210415T230000
SUMMARY:Colonial Heights Christian Church
LOCATION:Colonial Heights Christian Church\, 105 Meadow Lane\, Kingsport\, TN\, 37663
END:VEVENT
END:VCALENDAR
