BEGIN:VCALENDAR
VERSION:2.0
PRODID:-//AudioTheme 2.3.8
BEGIN:VEVENT
UID:urn:uuid:a5e23e38-a7a4-42a8-95c7-b3cc8f23f604
URL:https://mitchmcvicker.com/concerts/gig-4003/
DTSTART;TZID=GMT:20210313T010000
SUMMARY:Creve Coeur Christian Church
LOCATION:Creve Coeur Christian Church\, 101 S. Thorncrest Ave.\, Creve Coeur\, IL
END:VEVENT
END:VCALENDAR
