BEGIN:VCALENDAR
VERSION:2.0
PRODID:-//AudioTheme 2.3.8
BEGIN:VEVENT
UID:urn:uuid:d5e298bd-9fa3-41cf-ba90-4de22b0da31d
URL:https://mitchmcvicker.com/concerts/gig-3997/
DTSTART;TZID=GMT:20210314T010000
SUMMARY:Grace Community Church
LOCATION:Grace Community Church\, 4300 SW Burlingame RD\, Topeka\, KS
END:VEVENT
END:VCALENDAR
