BEGIN:VCALENDAR
VERSION:2.0
PRODID:-//AudioTheme 2.3.8
BEGIN:VEVENT
UID:urn:uuid:2c2c21ba-c13a-4433-8b7a-c9b34c374640
URL:https://mitchmcvicker.com/concerts/gig-3949/
DTSTART;TZID=GMT:20201105T010000
SUMMARY:Liberty Bible Church- Valparaiso Campus
LOCATION:Liberty Bible Church- Valparaiso Campus\, 1155 S. Sturdy St.\, Valparaiso\, IN\, USA
END:VEVENT
END:VCALENDAR
