BEGIN:VCALENDAR
VERSION:2.0
PRODID:-//AudioTheme 2.3.8
BEGIN:VEVENT
UID:urn:uuid:3e83dd63-3592-4d20-84ee-5a3d3f127414
URL:https://mitchmcvicker.com/concerts/gig-3945/
DTSTART;TZID=GMT:20201017T000000
SUMMARY:The Sanctuary Restaurant
LOCATION:The Sanctuary Restaurant\, 207 S. Elm St.\, Shenandoah\, IA\, USA
END:VEVENT
END:VCALENDAR
