BEGIN:VCALENDAR
VERSION:2.0
PRODID:-//AudioTheme 2.3.8
BEGIN:VEVENT
UID:urn:uuid:42cd8261-b13e-4355-930f-6b5ec4e337b1
URL:https://mitchmcvicker.com/concerts/gig-3943/
DTSTART;TZID=GMT:20201016T000000
SUMMARY:Sanctuary Church
LOCATION:Sanctuary Church\, 912 18th Avenue SW\, Cedar Rapids\, IA\, USA
END:VEVENT
END:VCALENDAR
